BEGIN:VCALENDAR
VERSION:2.0
PRODID:-//OmringXtra - ECPv6.15.17.1//NONSGML v1.0//EN
CALSCALE:GREGORIAN
METHOD:PUBLISH
X-WR-CALNAME:OmringXtra
X-ORIGINAL-URL:https://omringxtra.nl
X-WR-CALDESC:Evenementen voor OmringXtra
REFRESH-INTERVAL;VALUE=DURATION:PT1H
X-Robots-Tag:noindex
X-PUBLISHED-TTL:PT1H
BEGIN:VTIMEZONE
TZID:Europe/Amsterdam
BEGIN:DAYLIGHT
TZOFFSETFROM:+0100
TZOFFSETTO:+0200
TZNAME:CEST
DTSTART:20230326T010000
END:DAYLIGHT
BEGIN:STANDARD
TZOFFSETFROM:+0200
TZOFFSETTO:+0100
TZNAME:CET
DTSTART:20231029T010000
END:STANDARD
BEGIN:DAYLIGHT
TZOFFSETFROM:+0100
TZOFFSETTO:+0200
TZNAME:CEST
DTSTART:20240331T010000
END:DAYLIGHT
BEGIN:STANDARD
TZOFFSETFROM:+0200
TZOFFSETTO:+0100
TZNAME:CET
DTSTART:20241027T010000
END:STANDARD
BEGIN:DAYLIGHT
TZOFFSETFROM:+0100
TZOFFSETTO:+0200
TZNAME:CEST
DTSTART:20250330T010000
END:DAYLIGHT
BEGIN:STANDARD
TZOFFSETFROM:+0200
TZOFFSETTO:+0100
TZNAME:CET
DTSTART:20251026T010000
END:STANDARD
END:VTIMEZONE
BEGIN:VEVENT
DTSTART;TZID=Europe/Amsterdam:20240301T080000
DTEND;TZID=Europe/Amsterdam:20240331T230000
DTSTAMP:20260422T191119
CREATED:20240206T105547Z
LAST-MODIFIED:20240206T105735Z
UID:1159-1709280000-1711926000@omringxtra.nl
SUMMARY:30 dager gezonder!
DESCRIPTION:Over wat gezond is\, kunnen we heel lang praten. Maar over wat voor jou gezonder is\, hoef je vast niet lang na te denken. Dat weet je wel.\nMaar… weten is nog geen doen. Door een maand lang een gezonde uitdaging vol te houden\, wordt het makkelijker dat ook in de toekomst te blijven doen. Dat blijkt ook uit onderzoek. Daarom helpen we jou om samen met heel veel anderen in maart in actie te komen voor jouw gezondheid. Dat is veel leuker en het werkt echt. Klik op de link hieronder om je persoonlijke challenge aan te gaan en ontvang gratis tips en tricks op maat!
URL:https://omringxtra.nl/kalender/30-dager-gezonder/
CATEGORIES:Lente
ATTACH;FMTTYPE=image/jpeg:https://omringxtra.nl/wp-content/uploads/2024/02/30-dager-gezonder.jpg
END:VEVENT
END:VCALENDAR