BEGIN:VCALENDAR
VERSION:2.0
PRODID:-//OmringXtra - ECPv6.15.17.1//NONSGML v1.0//EN
CALSCALE:GREGORIAN
METHOD:PUBLISH
X-ORIGINAL-URL:https://omringxtra.nl
X-WR-CALDESC:Evenementen voor OmringXtra
REFRESH-INTERVAL;VALUE=DURATION:PT1H
X-Robots-Tag:noindex
X-PUBLISHED-TTL:PT1H
BEGIN:VTIMEZONE
TZID:Europe/Amsterdam
BEGIN:DAYLIGHT
TZOFFSETFROM:+0100
TZOFFSETTO:+0200
TZNAME:CEST
DTSTART:20230326T010000
END:DAYLIGHT
BEGIN:STANDARD
TZOFFSETFROM:+0200
TZOFFSETTO:+0100
TZNAME:CET
DTSTART:20231029T010000
END:STANDARD
BEGIN:DAYLIGHT
TZOFFSETFROM:+0100
TZOFFSETTO:+0200
TZNAME:CEST
DTSTART:20240331T010000
END:DAYLIGHT
BEGIN:STANDARD
TZOFFSETFROM:+0200
TZOFFSETTO:+0100
TZNAME:CET
DTSTART:20241027T010000
END:STANDARD
BEGIN:DAYLIGHT
TZOFFSETFROM:+0100
TZOFFSETTO:+0200
TZNAME:CEST
DTSTART:20250330T010000
END:DAYLIGHT
BEGIN:STANDARD
TZOFFSETFROM:+0200
TZOFFSETTO:+0100
TZNAME:CET
DTSTART:20251026T010000
END:STANDARD
END:VTIMEZONE
BEGIN:VEVENT
DTSTART;TZID=Europe/Amsterdam:20240413T080000
DTEND;TZID=Europe/Amsterdam:20240414T170000
DTSTAMP:20260422T204423
CREATED:20240221T101932Z
LAST-MODIFIED:20240222T105721Z
UID:1191-1712995200-1713114000@omringxtra.nl
SUMMARY:Halve Den Helder! Wandelen en hardlopen
DESCRIPTION:Kom vooral ook je collega’s aanmoedigen langs de route op 13 en 14 april! \nKlik hier om je op te geven of mail naar samen.vitaal@omring.nl
URL:https://omringxtra.nl/kalender/halve-den-helder-wandelen-en-hardlopen/
CATEGORIES:Lente
ATTACH;FMTTYPE=image/jpeg:https://omringxtra.nl/wp-content/uploads/2023/12/Fysiek-welbevinden.jpg
END:VEVENT
END:VCALENDAR