BEGIN:VCALENDAR
VERSION:2.0
PRODID:-//OmringXtra - ECPv6.15.17.1//NONSGML v1.0//EN
CALSCALE:GREGORIAN
METHOD:PUBLISH
X-ORIGINAL-URL:https://omringxtra.nl
X-WR-CALDESC:Evenementen voor OmringXtra
REFRESH-INTERVAL;VALUE=DURATION:PT1H
X-Robots-Tag:noindex
X-PUBLISHED-TTL:PT1H
BEGIN:VTIMEZONE
TZID:Europe/Amsterdam
BEGIN:DAYLIGHT
TZOFFSETFROM:+0100
TZOFFSETTO:+0200
TZNAME:CEST
DTSTART:20230326T010000
END:DAYLIGHT
BEGIN:STANDARD
TZOFFSETFROM:+0200
TZOFFSETTO:+0100
TZNAME:CET
DTSTART:20231029T010000
END:STANDARD
BEGIN:DAYLIGHT
TZOFFSETFROM:+0100
TZOFFSETTO:+0200
TZNAME:CEST
DTSTART:20240331T010000
END:DAYLIGHT
BEGIN:STANDARD
TZOFFSETFROM:+0200
TZOFFSETTO:+0100
TZNAME:CET
DTSTART:20241027T010000
END:STANDARD
BEGIN:DAYLIGHT
TZOFFSETFROM:+0100
TZOFFSETTO:+0200
TZNAME:CEST
DTSTART:20250330T010000
END:DAYLIGHT
BEGIN:STANDARD
TZOFFSETFROM:+0200
TZOFFSETTO:+0100
TZNAME:CET
DTSTART:20251026T010000
END:STANDARD
END:VTIMEZONE
BEGIN:VEVENT
DTSTART;TZID=Europe/Amsterdam:20240720T100000
DTEND;TZID=Europe/Amsterdam:20240720T120000
DTSTAMP:20260422T122724
CREATED:20240610T092900Z
LAST-MODIFIED:20240621T104017Z
UID:1422-1721469600-1721476800@omringxtra.nl
SUMMARY:Première Uitvoering Omring Orkest
DESCRIPTION:We zijn verheugd om jullie uit te nodigen voor een speciale muzikale avond die ons niet alleen de kans biedt om te ontspannen\, maar ook om onze talenten buiten het werk te tonen. Omring bruist van muzikaal talent\, en wat is er mooier dan samen muziek te maken. \nAls zorgprofessionals weten we als geen ander hoe belangrijk het is om momenten van ontspanning en samenzijn te koesteren. Daarom willen we iedereen uitnodigen om collega’s aan te moedigen tijdens de uitvoering op vier Omring locaties. Dit is een geweldige kans om onze passie voor muziek te delen en elkaar op een andere manier te leren kennen.
URL:https://omringxtra.nl/kalender/premiere-uitvoering-omring-orkest-3/
LOCATION:Rigtershof\, Grootebroek
ATTACH;FMTTYPE=image/jpeg:https://omringxtra.nl/wp-content/uploads/2024/06/omring-orkest-goed.jpg
END:VEVENT
BEGIN:VEVENT
DTSTART;TZID=Europe/Amsterdam:20240720T150000
DTEND;TZID=Europe/Amsterdam:20240720T170000
DTSTAMP:20260422T122724
CREATED:20240610T093330Z
LAST-MODIFIED:20240621T104146Z
UID:1425-1721487600-1721494800@omringxtra.nl
SUMMARY:Première Uitvoering Omring Orkest
DESCRIPTION:We zijn verheugd om jullie uit te nodigen voor een speciale muzikale avond die ons niet alleen de kans biedt om te ontspannen\, maar ook om onze talenten buiten het werk te tonen. Omring bruist van muzikaal talent\, en wat is er mooier dan samen muziek te maken. \nAls zorgprofessionals weten we als geen ander hoe belangrijk het is om momenten van ontspanning en samenzijn te koesteren. Daarom willen we iedereen uitnodigen om collega’s aan te moedigen tijdens de uitvoering op vier Omring locaties. Dit is een geweldige kans om onze passie voor muziek te delen en elkaar op een andere manier te leren kennen. \n 
URL:https://omringxtra.nl/kalender/premiere-uitvoering-omring-orkest-4/
LOCATION:Gollards\, De Zes 12\, Den Burg\, Texel
ATTACH;FMTTYPE=image/jpeg:https://omringxtra.nl/wp-content/uploads/2024/06/omring-orkest-goed.jpg
END:VEVENT
END:VCALENDAR