BEGIN:VCALENDAR
VERSION:2.0
PRODID:-//OmringXtra - ECPv6.15.17.1//NONSGML v1.0//EN
CALSCALE:GREGORIAN
METHOD:PUBLISH
X-ORIGINAL-URL:https://omringxtra.nl
X-WR-CALDESC:Evenementen voor OmringXtra
REFRESH-INTERVAL;VALUE=DURATION:PT1H
X-Robots-Tag:noindex
X-PUBLISHED-TTL:PT1H
BEGIN:VTIMEZONE
TZID:Europe/Amsterdam
BEGIN:DAYLIGHT
TZOFFSETFROM:+0100
TZOFFSETTO:+0200
TZNAME:CEST
DTSTART:20230326T010000
END:DAYLIGHT
BEGIN:STANDARD
TZOFFSETFROM:+0200
TZOFFSETTO:+0100
TZNAME:CET
DTSTART:20231029T010000
END:STANDARD
BEGIN:DAYLIGHT
TZOFFSETFROM:+0100
TZOFFSETTO:+0200
TZNAME:CEST
DTSTART:20240331T010000
END:DAYLIGHT
BEGIN:STANDARD
TZOFFSETFROM:+0200
TZOFFSETTO:+0100
TZNAME:CET
DTSTART:20241027T010000
END:STANDARD
BEGIN:DAYLIGHT
TZOFFSETFROM:+0100
TZOFFSETTO:+0200
TZNAME:CEST
DTSTART:20250330T010000
END:DAYLIGHT
BEGIN:STANDARD
TZOFFSETFROM:+0200
TZOFFSETTO:+0100
TZNAME:CET
DTSTART:20251026T010000
END:STANDARD
END:VTIMEZONE
BEGIN:VEVENT
DTSTART;TZID=Europe/Amsterdam:20241121T193000
DTEND;TZID=Europe/Amsterdam:20241121T213000
DTSTAMP:20260422T071529
CREATED:20241023T075301Z
LAST-MODIFIED:20241023T075301Z
UID:1579-1732217400-1732224600@omringxtra.nl
SUMMARY:Workshop beter slapen en onregelmatig werk
DESCRIPTION:Goed slapen verdient aandacht. Goed slapen is nodig om fysiek en mentaal te herstellen\, zodat je energie hebt wanneer je wakker bent. Beter slapen kun je leren. \nKlik hier om jezelf op te geven: https://forms.office.com/e/TVvXvNSsJV \nLiever een individuele afspraak inplannen? Mail naar samen.vitaal@omring.nl
URL:https://omringxtra.nl/kalender/workshop-beter-slapen-en-onregelmatig-werk/
LOCATION:Den Koogh\, Den Helder
CATEGORIES:Herfst
ATTACH;FMTTYPE=image/jpeg:https://omringxtra.nl/wp-content/uploads/2024/10/slapen.jpg
END:VEVENT
END:VCALENDAR