BEGIN:VCALENDAR
VERSION:2.0
PRODID:-//OmringXtra - ECPv6.15.17.1//NONSGML v1.0//EN
CALSCALE:GREGORIAN
METHOD:PUBLISH
X-ORIGINAL-URL:https://omringxtra.nl
X-WR-CALDESC:Evenementen voor OmringXtra
REFRESH-INTERVAL;VALUE=DURATION:PT1H
X-Robots-Tag:noindex
X-PUBLISHED-TTL:PT1H
BEGIN:VTIMEZONE
TZID:Europe/Amsterdam
BEGIN:DAYLIGHT
TZOFFSETFROM:+0100
TZOFFSETTO:+0200
TZNAME:CEST
DTSTART:20230326T010000
END:DAYLIGHT
BEGIN:STANDARD
TZOFFSETFROM:+0200
TZOFFSETTO:+0100
TZNAME:CET
DTSTART:20231029T010000
END:STANDARD
BEGIN:DAYLIGHT
TZOFFSETFROM:+0100
TZOFFSETTO:+0200
TZNAME:CEST
DTSTART:20240331T010000
END:DAYLIGHT
BEGIN:STANDARD
TZOFFSETFROM:+0200
TZOFFSETTO:+0100
TZNAME:CET
DTSTART:20241027T010000
END:STANDARD
BEGIN:DAYLIGHT
TZOFFSETFROM:+0100
TZOFFSETTO:+0200
TZNAME:CEST
DTSTART:20250330T010000
END:DAYLIGHT
BEGIN:STANDARD
TZOFFSETFROM:+0200
TZOFFSETTO:+0100
TZNAME:CET
DTSTART:20251026T010000
END:STANDARD
BEGIN:DAYLIGHT
TZOFFSETFROM:+0100
TZOFFSETTO:+0200
TZNAME:CEST
DTSTART:20260329T010000
END:DAYLIGHT
BEGIN:STANDARD
TZOFFSETFROM:+0200
TZOFFSETTO:+0100
TZNAME:CET
DTSTART:20261025T010000
END:STANDARD
END:VTIMEZONE
BEGIN:VEVENT
DTSTART;TZID=Europe/Amsterdam:20241201T120000
DTEND;TZID=Europe/Amsterdam:20241231T170000
DTSTAMP:20260422T040159
CREATED:20241129T121423Z
LAST-MODIFIED:20241203T112717Z
UID:1983-1733054400-1735664400@omringxtra.nl
SUMMARY:Workshop kerststukje maken= VOL
DESCRIPTION:Vanaf 1 december kunnen medewerkers bij omring zich inschrijven voor de Workshop Kerststukje maken! Door middel van een filmpje\, begeleid bloemenwinkel Thuis jullie stap voor stap bij het maken van een prachtige kerstkrans\, terwijl je lekker geniet van een hapje en drankje. Let op: er zijn 150 plekken beschikbaar\, dus schrijf je snel in om zeker te zijn van je plek! VOL=VOL \nDe workshop wordt thuis of op je werklocatie bezorgd in een box en op de hoofdpagina van OmringXtra en in de Samen Vitaal teamsgroep kun je het filmpje over de workshop vinden en bekijken. \nKERSTSTIP: Maak samen met collega’s of de kids het kerststukje (let op; max. 1 kerstukje per persoon).
URL:https://omringxtra.nl/kalender/workshop-kerststukje-maken/
CATEGORIES:Feestdagen,Winter
ATTACH;FMTTYPE=image/jpeg:https://omringxtra.nl/wp-content/uploads/2024/11/kerststukje.jpg
END:VEVENT
BEGIN:VEVENT
DTSTART;TZID=Europe/Amsterdam:20241211T080000
DTEND;TZID=Europe/Amsterdam:20250101T170000
DTSTAMP:20260422T040159
CREATED:20241211T082437Z
LAST-MODIFIED:20241211T082437Z
UID:2083-1733904000-1735750800@omringxtra.nl
SUMMARY:Kerstactie- Win een stoelmassage voor je team! (5 keer)
DESCRIPTION:Vanuit Samen Vitaal wensen wij alle collega’s een gezond 2025 toe! Maar hoe fijn is het als jullie het nieuwe jaar weer fris kunnen beginnen met een welverdiende stoelmassage voor het hele team? \nDe kerstactie is uiteraard in kerstsferen; stuur via een videoboodschap een kerstwens in voor je team of persoonlijk voor een of meerdere collega’s! Iedereen die in een kerstwens instuurt maakt kans\, het gaat niet om de mooiste kerstwens\, maar om je oprechte deelname. \nMerry Christmas<3.
URL:https://omringxtra.nl/kalender/kerstactie-win-een-stoelmassage-voor-je-team-5-keer/
CATEGORIES:Winter
ATTACH;FMTTYPE=image/png:https://omringxtra.nl/wp-content/uploads/2024/12/kerstkaart-nationaal-ouderenfonds-zorg-wanten-sneeuw-logo.480.p1.png
END:VEVENT
END:VCALENDAR