BEGIN:VCALENDAR
VERSION:2.0
PRODID:-//OmringXtra - ECPv6.15.17.1//NONSGML v1.0//EN
CALSCALE:GREGORIAN
METHOD:PUBLISH
X-WR-CALNAME:OmringXtra
X-ORIGINAL-URL:https://omringxtra.nl
X-WR-CALDESC:Evenementen voor OmringXtra
REFRESH-INTERVAL;VALUE=DURATION:PT1H
X-Robots-Tag:noindex
X-PUBLISHED-TTL:PT1H
BEGIN:VTIMEZONE
TZID:Europe/Amsterdam
BEGIN:DAYLIGHT
TZOFFSETFROM:+0100
TZOFFSETTO:+0200
TZNAME:CEST
DTSTART:20240331T010000
END:DAYLIGHT
BEGIN:STANDARD
TZOFFSETFROM:+0200
TZOFFSETTO:+0100
TZNAME:CET
DTSTART:20241027T010000
END:STANDARD
BEGIN:DAYLIGHT
TZOFFSETFROM:+0100
TZOFFSETTO:+0200
TZNAME:CEST
DTSTART:20250330T010000
END:DAYLIGHT
BEGIN:STANDARD
TZOFFSETFROM:+0200
TZOFFSETTO:+0100
TZNAME:CET
DTSTART:20251026T010000
END:STANDARD
BEGIN:DAYLIGHT
TZOFFSETFROM:+0100
TZOFFSETTO:+0200
TZNAME:CEST
DTSTART:20260329T010000
END:DAYLIGHT
BEGIN:STANDARD
TZOFFSETFROM:+0200
TZOFFSETTO:+0100
TZNAME:CET
DTSTART:20261025T010000
END:STANDARD
END:VTIMEZONE
BEGIN:VEVENT
DTSTART;TZID=Europe/Amsterdam:20250101T080000
DTEND;TZID=Europe/Amsterdam:20250131T170000
DTSTAMP:20260422T021131
CREATED:20241205T092841Z
LAST-MODIFIED:20241215T131448Z
UID:2068-1735718400-1738342800@omringxtra.nl
SUMMARY:DRY January 2025
DESCRIPTION:Wist je dat een kwart van de Nederlanders in januari kiest voor een alcoholpauze?  Nieuw jaar\, nieuwe kansen! 🌟 Doe deze januari mee met Dry January en ontdek een fittere\, vrolijkere en energiekere jij. Ga 2025 goed van start en zet je alcoholgebruik 30 dagen op pauze. \nMogelijke positieve gevolgen volgens ikpas.nl zijn: \n\nEen glanzende huid\nGewichtsverlies\nBetere nachtrust\nGeld besparen\nDoorzettingsvermogen verbetert\nEen beter humeur\n\nDaag jezelf uit en doe ook mee! Lees op www.ikpas.nl hoe dit jou helpt!
URL:https://omringxtra.nl/kalender/dry-january-2025/
CATEGORIES:Winter
ATTACH;FMTTYPE=image/jpeg:https://omringxtra.nl/wp-content/uploads/2024/12/dry.jpg
END:VEVENT
BEGIN:VEVENT
DTSTART;TZID=Europe/Amsterdam:20250120T110000
DTEND;TZID=Europe/Amsterdam:20250120T150000
DTSTAMP:20260422T021131
CREATED:20250114T121851Z
LAST-MODIFIED:20250114T121851Z
UID:2174-1737370800-1737385200@omringxtra.nl
SUMMARY:Blue Monday
DESCRIPTION:Boost je Blue Monday met een ontspannende stoelmassage! \nVolgende week maandag 20 januari staat bekend als Blue Monday\, maar dit jaar geven we er een positieve draai aan! Trakteer jezelf op een moment van rust en hernieuwde energie met een heerlijke stoelmassage. \n📍 Waarom een stoelmassage? \n\nVerlicht stress en spanning in je rug\, nek en schouders\nStimuleert de bloedcirculatie en verhoogt je concentratie\nGeeft je een energieboost om de week goed te beginnen of af te sluiten\n\n📅 Wanneer en waar?\nOp 20 januari op Blue Monday\, kun je in ruimte 1.48 van 11:00 tot 15:00 uur even helemaal ontspannen. Gun jezelf (of je collega’s) deze korte maar krachtige opkikker. \n📌 Hoe meld je je aan?\nVanaf woensdag 15 januari om 8.30 uur hangt er een intekenlijst voor de ruimte 1.48. Er zijn zes masseurs beschikbaar van 11:00 tot 15:00 uur\, dus kom vooral langs in Hoorn op het Baken. \nHaal diep adem\, ontspan\, en maak van Blue Monday jouw Relax Monday! 💙
URL:https://omringxtra.nl/kalender/blue-monday/
LOCATION:Hoofdkantoor Omring\, Nieuwe Steen 36\, Hoorn\, 1625 HV\, Nederland
CATEGORIES:Winter
ATTACH;FMTTYPE=image/png:https://omringxtra.nl/wp-content/uploads/2025/01/bm-masseur.png
END:VEVENT
END:VCALENDAR