BEGIN:VCALENDAR
VERSION:2.0
PRODID:-//OmringXtra - ECPv6.15.17.1//NONSGML v1.0//EN
CALSCALE:GREGORIAN
METHOD:PUBLISH
X-WR-CALNAME:OmringXtra
X-ORIGINAL-URL:https://omringxtra.nl
X-WR-CALDESC:Evenementen voor OmringXtra
REFRESH-INTERVAL;VALUE=DURATION:PT1H
X-Robots-Tag:noindex
X-PUBLISHED-TTL:PT1H
BEGIN:VTIMEZONE
TZID:Europe/Amsterdam
BEGIN:DAYLIGHT
TZOFFSETFROM:+0100
TZOFFSETTO:+0200
TZNAME:CEST
DTSTART:20240331T010000
END:DAYLIGHT
BEGIN:STANDARD
TZOFFSETFROM:+0200
TZOFFSETTO:+0100
TZNAME:CET
DTSTART:20241027T010000
END:STANDARD
BEGIN:DAYLIGHT
TZOFFSETFROM:+0100
TZOFFSETTO:+0200
TZNAME:CEST
DTSTART:20250330T010000
END:DAYLIGHT
BEGIN:STANDARD
TZOFFSETFROM:+0200
TZOFFSETTO:+0100
TZNAME:CET
DTSTART:20251026T010000
END:STANDARD
BEGIN:DAYLIGHT
TZOFFSETFROM:+0100
TZOFFSETTO:+0200
TZNAME:CEST
DTSTART:20260329T010000
END:DAYLIGHT
BEGIN:STANDARD
TZOFFSETFROM:+0200
TZOFFSETTO:+0100
TZNAME:CET
DTSTART:20261025T010000
END:STANDARD
END:VTIMEZONE
BEGIN:VEVENT
DTSTART;TZID=Europe/Amsterdam:20250325T080000
DTEND;TZID=Europe/Amsterdam:20250603T170000
DTSTAMP:20260421T195137
CREATED:20250217T155604Z
LAST-MODIFIED:20250217T155953Z
UID:2289-1742889600-1748970000@omringxtra.nl
SUMMARY:Buitenactiviteit- Bewegen met Boke
DESCRIPTION:Via Samen Vitaal gaan we een pilot buiten bewegen organiseren! De buitenactiviteit wordt verzorgd door Boke Dekker van B-OKÉ in de vorm van een bootcamp op verschillende niveaus. Het doel is bewegen en verbinden. \nDe activiteit vindt op om de dinsdag en elke dinsdag plaats op 2 verschillende startlocaties en in 3 verschillende groepen (max. 20 per groep): \n\nOm de dinsdag van 16:00 tot 17:00 uur in Hoorn\, verzamelplaats het Gezondheidsplein op de Nieuwe steen 36 (2 groepen; zie de datums in de afbeelding).\nElke dinsdag van 19:30 tot 20:30 in Spanbroek op de Spanbroekerweg 137a (1 groep).\n\nBij voldoende belangstelling gaan we kijken naar het verlengen van deze activiteit en in andere regio’s. Let op VOL=VOL en 100% commitment gevraagd bij het aanmelden.  \nKlik hier om je op te geven: https://forms.office.com/e/Q9ECaD61eg?origin=lprLink of mail naar samen.vitaal@omring.nl
URL:https://omringxtra.nl/kalender/buitenactiviteit-bewegen-met-boke/
CATEGORIES:Lente
ATTACH;FMTTYPE=image/png:https://omringxtra.nl/wp-content/uploads/2025/02/Bootcamp-Buiten-Bewegen.png
END:VEVENT
BEGIN:VEVENT
DTSTART;TZID=Europe/Amsterdam:20250524T103000
DTEND;TZID=Europe/Amsterdam:20250524T173000
DTSTAMP:20260421T195137
CREATED:20250210T092832Z
LAST-MODIFIED:20250413T104821Z
UID:2267-1748082600-1748107800@omringxtra.nl
SUMMARY:24 mei - Dag van de vrouwengezondheid 2025
DESCRIPTION:De Dag van de Vrouwengezondheid vindt plaats op zaterdag 24 mei 2025 tussen 10:30 en 17:30 uur in de Koninklijke Jaarbeurs in Utrecht. Kom jij ook? \nVrouwen worden anders ziek\, maar het mannenlichaam is de norm. Hierdoor krijgen ze anno 2025 niet altijd de juiste medische zorg. Stichting Voices for Women organiseert voor de tweede keer een baanbrekend event – ook zeer interessant voor zorgprofessionals en studenten – met onderwerpen zoals hormonen\, het vrouwenhart\, depressie\, auto-immuunziekten\, de overgang – en nog veel meer. \nVoor wie is deze dag?\nVoor alle vrouwen\, jong en oud\, met of zonder gezondheidsklachten\, of je nu werkzaam bent in de zorg of niet. Ook mannen zijn welkom: het gaat immers om hun vrouwen\, dochters\, moeders en zussen. Een must voor iedereen! \nWaarom deelnemen?\nNa deze dag: \n\nZal je bewuster naar je lichaam luisteren\nZal je sneller klachten herkennen\nVoel je je empowered en geïnspireerd\nHelp je mee impact maken\n\nWe zien je graag op de roze loper! \n Klik hier om je kaart te bemachtigen
URL:https://omringxtra.nl/kalender/dag-van-de-vrouwengezondheid-2025/
LOCATION:📍Beatrix Theater: Koninklijke Jaarbeurs Utrecht
CATEGORIES:Lente
ATTACH;FMTTYPE=image/png:https://omringxtra.nl/wp-content/uploads/2025/02/Dag-van-de-vrouwengezondheid-42.png
END:VEVENT
END:VCALENDAR