BEGIN:VCALENDAR
VERSION:2.0
PRODID:-//OmringXtra - ECPv6.15.17.1//NONSGML v1.0//EN
CALSCALE:GREGORIAN
METHOD:PUBLISH
X-WR-CALNAME:OmringXtra
X-ORIGINAL-URL:https://omringxtra.nl
X-WR-CALDESC:Evenementen voor OmringXtra
REFRESH-INTERVAL;VALUE=DURATION:PT1H
X-Robots-Tag:noindex
X-PUBLISHED-TTL:PT1H
BEGIN:VTIMEZONE
TZID:Europe/Amsterdam
BEGIN:DAYLIGHT
TZOFFSETFROM:+0100
TZOFFSETTO:+0200
TZNAME:CEST
DTSTART:20240331T010000
END:DAYLIGHT
BEGIN:STANDARD
TZOFFSETFROM:+0200
TZOFFSETTO:+0100
TZNAME:CET
DTSTART:20241027T010000
END:STANDARD
BEGIN:DAYLIGHT
TZOFFSETFROM:+0100
TZOFFSETTO:+0200
TZNAME:CEST
DTSTART:20250330T010000
END:DAYLIGHT
BEGIN:STANDARD
TZOFFSETFROM:+0200
TZOFFSETTO:+0100
TZNAME:CET
DTSTART:20251026T010000
END:STANDARD
BEGIN:DAYLIGHT
TZOFFSETFROM:+0100
TZOFFSETTO:+0200
TZNAME:CEST
DTSTART:20260329T010000
END:DAYLIGHT
BEGIN:STANDARD
TZOFFSETFROM:+0200
TZOFFSETTO:+0100
TZNAME:CET
DTSTART:20261025T010000
END:STANDARD
END:VTIMEZONE
BEGIN:VEVENT
DTSTART;TZID=Europe/Amsterdam:20250901T080000
DTEND;TZID=Europe/Amsterdam:20250930T170000
DTSTAMP:20260421T123933
CREATED:20250813T095723Z
LAST-MODIFIED:20250813T095933Z
UID:2813-1756713600-1759251600@omringxtra.nl
SUMMARY:Steptember 2025 - de hele maand september!
DESCRIPTION:Omringers al 5 jaar samen in beweging!\nAl vijf jaar lang gaan honderden Omring-collega’s in september de uitdaging aan om elke dag in beweging te komen. Doe jij dit jaar (weer) mee? \nEen maand lang dagen we elkaar uit om elke dag een Ommetje van minimaal 20 minuten te lopen. Goed voor je gezondheid\, gezellig met collega’s\, én dit jaar met iets extra’s: je loopt nu namelijk niet alleen voor jezelf\, maar ook voor je team of afdeling. \nWat is Steptember?\nSteptember is een laagdrempelige uitdaging die je helpt om dagelijks in beweging te komen. Je wandelt elke dag een stukje van minimaal 20 minuten. Je kiest zelf wanneer: voor of na je dienst\, in je pauze\, met een cliënt of gewoon in je vrije tijd. Het maakt niet uit waar of wanneer\, als je maar lekker beweegt. \nVia de gratis Ommetje-app houd je je wandelingen bij. Hiermee spaar je automatisch punten\, en met die punten kun je prijzen winnen in de maand september! \nMeer informatie over Steptember\, de prijzen en de wandelactiviteiten in september vind je op www.omringxtra.nl/steptember-2025. \nOf meld je hier direct aan >> \n 
URL:https://omringxtra.nl/kalender/steptember-2025-omringers-samen-in-beweging/
END:VEVENT
BEGIN:VEVENT
DTSTART;TZID=Europe/Amsterdam:20250921T120000
DTEND;TZID=Europe/Amsterdam:20250921T153000
DTSTAMP:20260421T123933
CREATED:20250813T095657Z
LAST-MODIFIED:20250813T125230Z
UID:2841-1758456000-1758468600@omringxtra.nl
SUMMARY:Steptember: Hoorn wandelt tegen kanker op 21 september
DESCRIPTION:Loop samen met je Omring-collega’s mee tijdens Hoorn Wandelt tegen Kanker op zondag 21 september\, en zet je in voor een belangrijk doel. Je kunt kiezen voor een route van 5 of 10 kilometer door en rondom het mooie Hoorn. Onderweg geniet je van de gezellige sfeer\, het prachtige uitzicht en de saamhorigheid van honderden wandelaars die samen het verschil willen maken. \nOmring is deze dag aanwezig met een eigen stand\, waar je collega’s ontmoet\, even kunt uitrusten en waar we je aanmoedigen tijdens de wandeling. Trek comfortabele wandelschoenen aan en neem eventueel een flesje water mee. Een mooie gelegenheid om samen in beweging te zijn\, punten te verdienen voor Steptember én een goed doel te steunen. \nDatum: zondag 21 september 2025\, vanaf 12.00 uur.\nDe 5 en 10 kilometer wandelingen starten tussen 13:00 en 14:00.\nPlaats: Strandpaviljoen Oranje Buiten\, De Schelphoek 4\, 1621 MK Hoorn\, www.oranje-buiten.nl\nEindtijd: Om 17.00 uur zullen alle wandelaars gefinished te zijn. \n\nP.S. Attendeer jouw naaste collega’s ook op deze aciviteit\, en neem jouw collega’s of team ook mee! \nGeef je op via dit formulier >>  \nLet op! Vol=vol. \nDoe mee aan Steptember en win mooie prijzen voor jezelf of je team! Lees hier meer!
URL:https://omringxtra.nl/kalender/steptember-hoorn-wandelt-tegen-kanker-op-21-september/
LOCATION:Hoorn\, Strandpaviljoen Oranje Buiten
END:VEVENT
END:VCALENDAR