BEGIN:VCALENDAR
VERSION:2.0
PRODID:-//OmringXtra - ECPv6.15.17.1//NONSGML v1.0//EN
CALSCALE:GREGORIAN
METHOD:PUBLISH
X-ORIGINAL-URL:https://omringxtra.nl
X-WR-CALDESC:Evenementen voor OmringXtra
REFRESH-INTERVAL;VALUE=DURATION:PT1H
X-Robots-Tag:noindex
X-PUBLISHED-TTL:PT1H
BEGIN:VTIMEZONE
TZID:Europe/Amsterdam
BEGIN:DAYLIGHT
TZOFFSETFROM:+0100
TZOFFSETTO:+0200
TZNAME:CEST
DTSTART:20240331T010000
END:DAYLIGHT
BEGIN:STANDARD
TZOFFSETFROM:+0200
TZOFFSETTO:+0100
TZNAME:CET
DTSTART:20241027T010000
END:STANDARD
BEGIN:DAYLIGHT
TZOFFSETFROM:+0100
TZOFFSETTO:+0200
TZNAME:CEST
DTSTART:20250330T010000
END:DAYLIGHT
BEGIN:STANDARD
TZOFFSETFROM:+0200
TZOFFSETTO:+0100
TZNAME:CET
DTSTART:20251026T010000
END:STANDARD
BEGIN:DAYLIGHT
TZOFFSETFROM:+0100
TZOFFSETTO:+0200
TZNAME:CEST
DTSTART:20260329T010000
END:DAYLIGHT
BEGIN:STANDARD
TZOFFSETFROM:+0200
TZOFFSETTO:+0100
TZNAME:CET
DTSTART:20261025T010000
END:STANDARD
END:VTIMEZONE
BEGIN:VEVENT
DTSTART;VALUE=DATE:20251009
DTEND;VALUE=DATE:20251010
DTSTAMP:20260421T104416
CREATED:20250813T130140Z
LAST-MODIFIED:20250926T144455Z
UID:2873-1759968000-1760054399@omringxtra.nl
SUMMARY:VIPositieve Gezondheid Event - 9 oktober
DESCRIPTION:Ontdek de kracht van Positieve Gezondheid tijdens een inspirerende avond voor Omringers \nOp donderdag 9 oktober ben je van harte welkom bij het VIP Positieve Gezondheid Event in het Postkantoor te  Bovenkarspel. Vanaf 17.00 uur staat de avond helemaal in het teken van welzijn\, energie en vitaliteit. \nJe ontdekt Positieve Gezondheid op een leuke en toegankelijke manier. Wandel over de markt en ervaar hoe jij kunt werken aan je vitaliteit\, zowel op je werk als thuis. Doe een stress-test of laat je hartritme meten\, geniet van een stoelmassage of ga in gesprek met een coach. Er zijn ook workshops en belevingen rondom voeding\, aromatherapie\, ontspanning en meer. Natuurlijk kun je tussendoor genieten van gezonde en lekkere hapjes. \nNa de markt beleef je een bijzondere theatervoorstelling in de zaal van Het Postkantoor. Deze voorstelling is speciaal voor Omring ontwikkeld en laat op een inspirerende en herkenbare manier zien hoe Positieve Gezondheid ook in jouw dagelijks leven een rol kan spelen. \nDe avond is inspirerend\, ontspannen en gezellig. Samen met collega’s is dit een ideaal teamuitje! \nLocatieHet Postkantoor\, Hoofdstraat 17\, 1611 AA Bovenkarspel \nProgramma17.00 Inloop17.30 Rondje over de markt en buffet18.30 Openen deuren theaterzaal19.00 Start theatervoorstelling over Positieve Gezondheid20.30 Einde voorstelling \nKom ontdekken\, beleven en opladen! \nMeld je aan via: https://forms.cloud.microsoft/e/aiiAM3q3jX \n \n \n 
URL:https://omringxtra.nl/kalender/vipositieve-gezondheid-event-9-oktober/
END:VEVENT
END:VCALENDAR