BEGIN:VCALENDAR
VERSION:2.0
PRODID:-//OmringXtra - ECPv6.15.17.1//NONSGML v1.0//EN
CALSCALE:GREGORIAN
METHOD:PUBLISH
X-ORIGINAL-URL:https://omringxtra.nl
X-WR-CALDESC:Evenementen voor OmringXtra
REFRESH-INTERVAL;VALUE=DURATION:PT1H
X-Robots-Tag:noindex
X-PUBLISHED-TTL:PT1H
BEGIN:VTIMEZONE
TZID:Europe/Amsterdam
BEGIN:DAYLIGHT
TZOFFSETFROM:+0100
TZOFFSETTO:+0200
TZNAME:CEST
DTSTART:20230326T010000
END:DAYLIGHT
BEGIN:STANDARD
TZOFFSETFROM:+0200
TZOFFSETTO:+0100
TZNAME:CET
DTSTART:20231029T010000
END:STANDARD
BEGIN:DAYLIGHT
TZOFFSETFROM:+0100
TZOFFSETTO:+0200
TZNAME:CEST
DTSTART:20240331T010000
END:DAYLIGHT
BEGIN:STANDARD
TZOFFSETFROM:+0200
TZOFFSETTO:+0100
TZNAME:CET
DTSTART:20241027T010000
END:STANDARD
BEGIN:DAYLIGHT
TZOFFSETFROM:+0100
TZOFFSETTO:+0200
TZNAME:CEST
DTSTART:20250330T010000
END:DAYLIGHT
BEGIN:STANDARD
TZOFFSETFROM:+0200
TZOFFSETTO:+0100
TZNAME:CET
DTSTART:20251026T010000
END:STANDARD
END:VTIMEZONE
BEGIN:VEVENT
DTSTART;TZID=Europe/Amsterdam:20241124T120000
DTEND;TZID=Europe/Amsterdam:20241124T140000
DTSTAMP:20260422T122857
CREATED:20241001T142450Z
LAST-MODIFIED:20241001T142450Z
UID:1562-1732449600-1732456800@omringxtra.nl
SUMMARY:Dag van de mantelzorg- Mantelzorglunch voor Omring collega's
DESCRIPTION:In het hele land worden mantelzorgers in het zonnetje gezet als bedankje voor de zorg die zij verlenen aan een partner\, kind\, ouder(s)\, broer of zus of iemand anders uit hun netwerk. Bij Omring doen we dit door middel van een lunch. Geef jezelf of een collega op en kom tussen 12:00 en 14:00 lunchen in Schagen (locatie nadert nog. \nKlik hier om je op te geven: https://forms.office.com/e/aZyryCFvsK  \n  \n 
URL:https://omringxtra.nl/kalender/dag-van-de-mantelzorg-mantelzorglunch-voor-omring-collegas/
CATEGORIES:Herfst
ATTACH;FMTTYPE=image/jpeg:https://omringxtra.nl/wp-content/uploads/2024/10/mantelzorglunch.jpg
END:VEVENT
END:VCALENDAR