BEGIN:VCALENDAR
VERSION:2.0
PRODID:-//OmringXtra - ECPv6.15.17.1//NONSGML v1.0//EN
CALSCALE:GREGORIAN
METHOD:PUBLISH
X-WR-CALNAME:OmringXtra
X-ORIGINAL-URL:https://omringxtra.nl
X-WR-CALDESC:Evenementen voor OmringXtra
REFRESH-INTERVAL;VALUE=DURATION:PT1H
X-Robots-Tag:noindex
X-PUBLISHED-TTL:PT1H
BEGIN:VTIMEZONE
TZID:Europe/Amsterdam
BEGIN:DAYLIGHT
TZOFFSETFROM:+0100
TZOFFSETTO:+0200
TZNAME:CEST
DTSTART:20240331T010000
END:DAYLIGHT
BEGIN:STANDARD
TZOFFSETFROM:+0200
TZOFFSETTO:+0100
TZNAME:CET
DTSTART:20241027T010000
END:STANDARD
BEGIN:DAYLIGHT
TZOFFSETFROM:+0100
TZOFFSETTO:+0200
TZNAME:CEST
DTSTART:20250330T010000
END:DAYLIGHT
BEGIN:STANDARD
TZOFFSETFROM:+0200
TZOFFSETTO:+0100
TZNAME:CET
DTSTART:20251026T010000
END:STANDARD
BEGIN:DAYLIGHT
TZOFFSETFROM:+0100
TZOFFSETTO:+0200
TZNAME:CEST
DTSTART:20260329T010000
END:DAYLIGHT
BEGIN:STANDARD
TZOFFSETFROM:+0200
TZOFFSETTO:+0100
TZNAME:CET
DTSTART:20261025T010000
END:STANDARD
END:VTIMEZONE
BEGIN:VEVENT
DTSTART;VALUE=DATE:20250614
DTEND;VALUE=DATE:20250615
DTSTAMP:20260422T002217
CREATED:20250305T101302Z
LAST-MODIFIED:20250413T104627Z
UID:2327-1749859200-1749945599@omringxtra.nl
SUMMARY:MudMasters 14 juni 2025
DESCRIPTION:Altijd al willen meedoen aan Mud Masters? Dit is jouw kans! Om iedereen een eerlijke kans te geven om mee te doen (ook als je dit wat later leest)\, verloten we maximaal 20 gratis kaarten voor deze ultieme obstacle run. Modder\, obstakels en een onvergetelijke ervaring\n Test je grenzen en ga de uitdaging aan\n️ Maak kans op een gratis ticket! Doe mee en wie weet sta jij straks aan de start.Meedoen? Meld je snel aan!\nOp 1 april hoor je of je mee kan doen! #nojoke 🙂#MudMasters #actie #ChallengeAccepted \nAanmeldformulier: https://forms.office.com/e/JEhRVf78f7
URL:https://omringxtra.nl/kalender/mudmasters-2025/
CATEGORIES:Lente
ATTACH;FMTTYPE=image/jpeg:https://omringxtra.nl/wp-content/uploads/2025/03/mudmasters.jpg
END:VEVENT
END:VCALENDAR