BEGIN:VCALENDAR
VERSION:2.0
PRODID:-//OmringXtra - ECPv6.15.17.1//NONSGML v1.0//EN
CALSCALE:GREGORIAN
METHOD:PUBLISH
X-WR-CALNAME:OmringXtra
X-ORIGINAL-URL:https://omringxtra.nl
X-WR-CALDESC:Evenementen voor OmringXtra
REFRESH-INTERVAL;VALUE=DURATION:PT1H
X-Robots-Tag:noindex
X-PUBLISHED-TTL:PT1H
BEGIN:VTIMEZONE
TZID:Europe/Amsterdam
BEGIN:DAYLIGHT
TZOFFSETFROM:+0100
TZOFFSETTO:+0200
TZNAME:CEST
DTSTART:20240331T010000
END:DAYLIGHT
BEGIN:STANDARD
TZOFFSETFROM:+0200
TZOFFSETTO:+0100
TZNAME:CET
DTSTART:20241027T010000
END:STANDARD
BEGIN:DAYLIGHT
TZOFFSETFROM:+0100
TZOFFSETTO:+0200
TZNAME:CEST
DTSTART:20250330T010000
END:DAYLIGHT
BEGIN:STANDARD
TZOFFSETFROM:+0200
TZOFFSETTO:+0100
TZNAME:CET
DTSTART:20251026T010000
END:STANDARD
BEGIN:DAYLIGHT
TZOFFSETFROM:+0100
TZOFFSETTO:+0200
TZNAME:CEST
DTSTART:20260329T010000
END:DAYLIGHT
BEGIN:STANDARD
TZOFFSETFROM:+0200
TZOFFSETTO:+0100
TZNAME:CET
DTSTART:20261025T010000
END:STANDARD
END:VTIMEZONE
BEGIN:VEVENT
DTSTART;TZID=Europe/Amsterdam:20250620T150000
DTEND;TZID=Europe/Amsterdam:20250620T183000
DTSTAMP:20260422T033546
CREATED:20250425T083058Z
LAST-MODIFIED:20250509T072829Z
UID:2586-1750431600-1750444200@omringxtra.nl
SUMMARY:Padel Event – OmringXtra x Samen Vitaal - 20 juni in Hoorn
DESCRIPTION:Doe mee aan het Padel Event en beleef een gezellige\, sportieve middag samen met collega’s! Of je nu een ervaren speler bent of nog nooit padel hebt gespeeld: iedereen is welkom. \nPadel is een sport die makkelijk te leren is en vooral veel plezier geeft.Heb je het nog nooit gespeeld? Dan is dit een leuke en ontspannen manier om ermee kennis te maken. Speel je al wat langer? Dan zorgen we ervoor dat je tegenstanders van jouw niveau hebt\, zodat het ook voor jou uitdagend blijft. Je speelt dus altijd met en tegen collega’s die ongeveer evenveel ervaring hebben. Zo kan iedereen meedoen\, van beginner tot gevorderde. \nWe spelen in korte rondes van 20 minuten op 6 verschillende banen\, waardoor je steeds met nieuwe tegenstanders op de baan staat. Zo blijf je in beweging én leer je ook nog eens nieuwe collega’s kennen! \nTijdens het event kun je op elk moment even pauzeren met een flesje water en een gezonde powerbar. Die liggen klaar om te pakken. \nWe sluiten af met een gezellige maar gezonde vrijdagmiddagborrel.Geen alcohol\, maar wel veel smaak! Er is 0.0 bier\, alcoholvrije wijn en mocktails. En natuurlijk gezonde én lekkere snacks. Borrelen was nog nooit zo leuk én verantwoord. \nWaar: \nThe Padellers\, Hoorn/Zwaag\nDe Marowijne 45\n1689 AR Zwaag \nWanneer: \nVrijdagmiddag 20 juni \nTijd: \nInloop: 15.00 (omkleden)\nStart padellen: 15.30 uur\nEinde padellen: 17.30 uur\nBorrel: Vanaf 17.00 uur \nWat kun je verwachten? \n\nEen gezellige middag op een indoor padellocatie in Hoorn\nRackets\, ballen en begeleiding is aanwezig\nVoor alle niveaus\, van beginner tot gevorderd\nKoffie en thee bij aankomst\nWater en healthy powerbars voor tussendoor\nEn als afsluiter: een gezellige borrel zonder alcohol\, maar met veel sfeer! Denk aan lekkere mocktails en een borrelplank met gezonde snacks\, vegan balletjes\, allerhande hapjes\, kaas en nootjes.\n\nZien we jou op de padelbaan bij The Padellers Hoorn/Zwaag? \nKlik hier om aan te melden >>  \nAanmelden kan tot en met 6 juni. Er is een beperkt aantal plekken\, dus wees er op tijd bij. \n  \n 
URL:https://omringxtra.nl/kalender/padel-event-omringxtra-x-samen-vitaal-20-juni-in-hoorn/
LOCATION:The Padellers Hoorn/Zwaag\, De Marowijne 45\, Zwaag\, 1689 AR\, Netherlands
CATEGORIES:Lente
ORGANIZER;CN="Omring":MAILTO:service@omring.nl
END:VEVENT
END:VCALENDAR