BEGIN:VCALENDAR
VERSION:2.0
PRODID:-//OmringXtra - ECPv6.15.17.1//NONSGML v1.0//EN
CALSCALE:GREGORIAN
METHOD:PUBLISH
X-WR-CALNAME:OmringXtra
X-ORIGINAL-URL:https://omringxtra.nl
X-WR-CALDESC:Evenementen voor OmringXtra
REFRESH-INTERVAL;VALUE=DURATION:PT1H
X-Robots-Tag:noindex
X-PUBLISHED-TTL:PT1H
BEGIN:VTIMEZONE
TZID:Europe/Amsterdam
BEGIN:DAYLIGHT
TZOFFSETFROM:+0100
TZOFFSETTO:+0200
TZNAME:CEST
DTSTART:20220327T010000
END:DAYLIGHT
BEGIN:STANDARD
TZOFFSETFROM:+0200
TZOFFSETTO:+0100
TZNAME:CET
DTSTART:20221030T010000
END:STANDARD
BEGIN:DAYLIGHT
TZOFFSETFROM:+0100
TZOFFSETTO:+0200
TZNAME:CEST
DTSTART:20230326T010000
END:DAYLIGHT
BEGIN:STANDARD
TZOFFSETFROM:+0200
TZOFFSETTO:+0100
TZNAME:CET
DTSTART:20231029T010000
END:STANDARD
BEGIN:DAYLIGHT
TZOFFSETFROM:+0100
TZOFFSETTO:+0200
TZNAME:CEST
DTSTART:20240331T010000
END:DAYLIGHT
BEGIN:STANDARD
TZOFFSETFROM:+0200
TZOFFSETTO:+0100
TZNAME:CET
DTSTART:20241027T010000
END:STANDARD
BEGIN:DAYLIGHT
TZOFFSETFROM:+0100
TZOFFSETTO:+0200
TZNAME:CEST
DTSTART:20250330T010000
END:DAYLIGHT
BEGIN:STANDARD
TZOFFSETFROM:+0200
TZOFFSETTO:+0100
TZNAME:CET
DTSTART:20251026T010000
END:STANDARD
END:VTIMEZONE
BEGIN:VEVENT
DTSTART;TZID=Europe/Amsterdam:20240220T190000
DTEND;TZID=Europe/Amsterdam:20240220T203000
DTSTAMP:20260419T153143
CREATED:20231211T085039Z
LAST-MODIFIED:20240206T103516Z
UID:680-1708455600-1708461000@omringxtra.nl
SUMMARY:Workshop Grip op je financiën
DESCRIPTION:Leer in vogelvlucht van de budgetcoach Claudia Klokkemeijer hoe je meer grip op je geld kunt krijgen. \nAanmelden
URL:https://omringxtra.nl/kalender/workshop-grip-op-je-financien/
CATEGORIES:Winter
ATTACH;FMTTYPE=image/png:https://omringxtra.nl/wp-content/uploads/2023/12/Grip-op-je-financien.png
END:VEVENT
BEGIN:VEVENT
DTSTART;TZID=Europe/Amsterdam:20240216T110000
DTEND;TZID=Europe/Amsterdam:20240216T120000
DTSTAMP:20260419T153143
CREATED:20231211T085249Z
LAST-MODIFIED:20240206T103138Z
UID:685-1708081200-1708084800@omringxtra.nl
SUMMARY:Hybride Yoga van Merel Bron
DESCRIPTION:Op 16 februari ben je van harte welkom van 11:00 tot 12:00 in het Baken ruimte 1.48 of via de onderstaande Teamslink. Bewaar deze link dus goed als je online aansluit en blokkeer dit momentje alvast voor jezelf in je agenda❤ #metimeee.  \nKlik hier om naar de Teamsomgeving te gaan \n 
URL:https://omringxtra.nl/kalender/yoga-van-merel-bron/
LOCATION:Hoofdkantoor Omring\, Nieuwe Steen 36\, Hoorn\, 1625 HV\, Nederland
CATEGORIES:Winter
ATTACH;FMTTYPE=image/jpeg:https://omringxtra.nl/wp-content/uploads/2023/12/omgring-winterprogramma-7.jpg
END:VEVENT
BEGIN:VEVENT
DTSTART;VALUE=DATE:20240101
DTEND;VALUE=DATE:20240201
DTSTAMP:20260419T153143
CREATED:20231211T084416Z
LAST-MODIFIED:20231211T084431Z
UID:674-1704067200-1706745599@omringxtra.nl
SUMMARY:Dry januari
DESCRIPTION:De campagne start na de feestdagen op 1 januari 2024. Doe je ook mee?
URL:https://omringxtra.nl/kalender/dry-januari/
CATEGORIES:Winter
ATTACH;FMTTYPE=image/jpeg:https://omringxtra.nl/wp-content/uploads/2023/12/omgring-winterprogramma-4.jpg
END:VEVENT
BEGIN:VEVENT
DTSTART;VALUE=DATE:20231222
DTEND;VALUE=DATE:20240101
DTSTAMP:20260419T153143
CREATED:20231211T084141Z
LAST-MODIFIED:20231221T131525Z
UID:671-1703203200-1704067199@omringxtra.nl
SUMMARY:#delenislief
DESCRIPTION:24/7.\nPost een feestelijke foto van bijvoorbeeld pakjesavond\, de kerstboom\, kerstviering\, feestelijke diertjes op werk of privé in de Samen Vitaal Teams groep of Yammer met #vitalefeestdagen
URL:https://omringxtra.nl/kalender/delenislief/
CATEGORIES:Feestdagen
ATTACH;FMTTYPE=image/jpeg:https://omringxtra.nl/wp-content/uploads/2023/12/omgring-winterprogramma-3.jpg
END:VEVENT
BEGIN:VEVENT
DTSTART;TZID=Europe/Amsterdam:20231221T160000
DTEND;TZID=Europe/Amsterdam:20231221T173000
DTSTAMP:20260419T153143
CREATED:20231211T083515Z
LAST-MODIFIED:20231211T093700Z
UID:667-1703174400-1703179800@omringxtra.nl
SUMMARY:BINGO timeeee 16:00 - 17:30
DESCRIPTION:De #1 activiteit van vorig jaar. \nDE gezelligste online Kerstbingo met collega’s in kerstsferen\, het gezin kan uiteraard ook gezellig meedoen! \nAanmelden
URL:https://omringxtra.nl/kalender/bingo-timeeee-1600-1730/
CATEGORIES:Feestdagen
ATTACH;FMTTYPE=image/jpeg:https://omringxtra.nl/wp-content/uploads/2023/12/omgring-winterprogramma-2.jpg
END:VEVENT
BEGIN:VEVENT
DTSTART;TZID=Europe/Amsterdam:20231220T183000
DTEND;TZID=Europe/Amsterdam:20231220T200000
DTSTAMP:20260419T153143
CREATED:20231211T082905Z
LAST-MODIFIED:20231211T093705Z
UID:660-1703097000-1703102400@omringxtra.nl
SUMMARY:BINGO timeeee 18:30 - 20:00
DESCRIPTION:De #1 activiteit van vorig jaar. \nDE gezelligste online Kerstbingo met collega’s in kerstsferen\, het gezin kan uiteraard ook gezellig meedoen! \nAanmelden
URL:https://omringxtra.nl/kalender/bingo-timeeee-1830-2000/
CATEGORIES:Feestdagen
ATTACH;FMTTYPE=image/jpeg:https://omringxtra.nl/wp-content/uploads/2023/12/omgring-winterprogramma-1.jpg
END:VEVENT
END:VCALENDAR