BEGIN:VCALENDAR
VERSION:2.0
PRODID:-//OmringXtra - ECPv6.15.17.1//NONSGML v1.0//EN
CALSCALE:GREGORIAN
METHOD:PUBLISH
X-WR-CALNAME:OmringXtra
X-ORIGINAL-URL:https://omringxtra.nl
X-WR-CALDESC:Evenementen voor OmringXtra
REFRESH-INTERVAL;VALUE=DURATION:PT1H
X-Robots-Tag:noindex
X-PUBLISHED-TTL:PT1H
BEGIN:VTIMEZONE
TZID:Europe/Amsterdam
BEGIN:DAYLIGHT
TZOFFSETFROM:+0100
TZOFFSETTO:+0200
TZNAME:CEST
DTSTART:20230326T010000
END:DAYLIGHT
BEGIN:STANDARD
TZOFFSETFROM:+0200
TZOFFSETTO:+0100
TZNAME:CET
DTSTART:20231029T010000
END:STANDARD
BEGIN:DAYLIGHT
TZOFFSETFROM:+0100
TZOFFSETTO:+0200
TZNAME:CEST
DTSTART:20240331T010000
END:DAYLIGHT
BEGIN:STANDARD
TZOFFSETFROM:+0200
TZOFFSETTO:+0100
TZNAME:CET
DTSTART:20241027T010000
END:STANDARD
BEGIN:DAYLIGHT
TZOFFSETFROM:+0100
TZOFFSETTO:+0200
TZNAME:CEST
DTSTART:20250330T010000
END:DAYLIGHT
BEGIN:STANDARD
TZOFFSETFROM:+0200
TZOFFSETTO:+0100
TZNAME:CET
DTSTART:20251026T010000
END:STANDARD
END:VTIMEZONE
BEGIN:VEVENT
DTSTART;VALUE=DATE:20240509
DTEND;VALUE=DATE:20240510
DTSTAMP:20260422T153617
CREATED:20240213T100711Z
LAST-MODIFIED:20240221T103245Z
UID:1175-1715212800-1715299199@omringxtra.nl
SUMMARY:Battle4Life!
DESCRIPTION:‘Samen de beste zorg dichtbij’\, dat is de missie van Omring. Battle4Life gaan we afleggen vanuit onze kernwaarden – Eigen Regie\, Positief\, Samen en Vindingrijk! Geef je op voor het Omring bedrijventeam via de onderstaande link! Deel onderstaande link ook met je collega’s zodat deze zich binnen ons bedrijfsteam kunnen aanmelden. https://www.battle4life.nl/companies/zorginstelling-omring/participate/a510d70b1cf670ebcb915e4f5cad4e7cbfe0e317 \nHeel veel succes en plezier! \n 
URL:https://omringxtra.nl/kalender/battle4life/
CATEGORIES:Lente
ATTACH;FMTTYPE=image/png:https://omringxtra.nl/wp-content/uploads/2024/02/Battle4Life.png
END:VEVENT
BEGIN:VEVENT
DTSTART;TZID=Europe/Amsterdam:20240521T190000
DTEND;TZID=Europe/Amsterdam:20240521T200000
DTSTAMP:20260422T153617
CREATED:20240311T152702Z
LAST-MODIFIED:20240311T152914Z
UID:1278-1716318000-1716321600@omringxtra.nl
SUMMARY:Online workshop Slapen en Onregelmatig werk
DESCRIPTION:Goed slapen verdient aandacht. Zeker wanneer je te maken hebt met onregelmatige werktijden. Goed slapen is nodig om fysiek en mentaal te herstellen\, zodat je energie hebt wanneer je wakker bent.  Deze workshop helpt je om (weer) grip te krijgen en te houden op slaap en staat stil bij hoe een juiste voeding ondersteunend kan werken bij onregelmatige diensten. \nWat houdt het in?\n\nOnline slaaptest (10 minuten) met persoonlijke uitslag\nWorkshop van 2 x 1 uur\nIndividuele coaching 1 x 45 minuten (indien gewenst)\nRemindermails voor een duurzame gedragsverandering\n\nWelke onderwerpen komen aan bod?\n\nInzicht: in hoe slaap ‘werkt’?\nInzicht: in het bioritme en effect daarvan op slaap en alertheid en hoe je hiermee om kunt gaan\nInzicht: in het belang van structuur binnen een onregelmatig leven en hoe je dit aanpakt\nVerandering: wat kun jij doen om je slaap te verbeteren?\nPraktische tips en tools\nPersoonlijk actieplan\n\nWaarom deze training?\n\nDit is een bewezen effectieve training gebaseerd op Acceptance & Commitment Therapy (ACT).\nJe leert van de beste trainers – de slaapexperts van LIJV zijn ACT-gecertificeerd en opgeleid aan de Sleepschool in Londen.\nInteractief en ervaringsgericht.\n\nDeel 1:  21 mei van 19:00 tot 20:00 uur  \nDeel 2: 4 juni van 19:00 tot 20:00 uur  \nKlik hier om je op te geven
URL:https://omringxtra.nl/kalender/online-workshop-slapen-en-onregelmatig-werk/
CATEGORIES:Lente
END:VEVENT
BEGIN:VEVENT
DTSTART;TZID=Europe/Amsterdam:20240525T110000
DTEND;TZID=Europe/Amsterdam:20240525T173000
DTSTAMP:20260422T153617
CREATED:20240417T100341Z
LAST-MODIFIED:20240508T072604Z
UID:1332-1716634800-1716658200@omringxtra.nl
SUMMARY:Dag van de Vrouwengezondheid
DESCRIPTION:Stichting Voices for Women maakt zich hard voor gericht onderzoek naar de man-vrouw verschillen. Onderzoek naar ziektes is van oudsher gedaan op mannen. Het huidige gebrek aan kennis heeft enorme consequenties: klachten worden niet herkend; ziektes worden niet of niet juist gediagnosticeerd en daardoor krijgen vrouwen lang niet altijd de juiste behandeling. \n🗓️25 mei \n⏰11:00 – 17:30 \n📍Beatrix Theater: Koninklijke Jaarbeurs Utrecht \nStuur deze link door naar je collega’s om samen heen te gaan! \nMail Gratis Kaart+ je naam en personeelsnummer naar samen.vitaal@omring.nl en ontvang een kaart! \nBij de ticketprijs is ook inbegrepen: \n-workshops en optredens van o.a Edsilia Rombley en Cabaretière Marjolijn van Kooten \n-een informatiemarkt \n-foto-expositie \n-uitgebreide gezonde lunch met smoothies\, salades\, broodjes en soep. \n  \nNa deze inspirerende dag zul je: \n-bewuster naar je lichaam luisteren \n-Je klachten sneller herkennen \n-betere keuzes maken op het gebied van lichamelijke gezondheid \nVoices for Women is dé stem van vrouwen met onverklaarde gezondheidsklachten en geeft de gevolgen van een groot medisch kennishiaat een gezicht. Zo pleiten zij voor meer onderzoek en doen dit hand in hand met zorgprofessionals\, wetenschappers en ervaringsdeskundigen.
URL:https://omringxtra.nl/kalender/dag-van-de-vrouwengezondheid/
LOCATION:📍Beatrix Theater: Koninklijke Jaarbeurs Utrecht
CATEGORIES:Lente
END:VEVENT
END:VCALENDAR