BEGIN:VCALENDAR
VERSION:2.0
PRODID:-//OmringXtra - ECPv6.15.17.1//NONSGML v1.0//EN
CALSCALE:GREGORIAN
METHOD:PUBLISH
X-ORIGINAL-URL:https://omringxtra.nl
X-WR-CALDESC:Evenementen voor OmringXtra
REFRESH-INTERVAL;VALUE=DURATION:PT1H
X-Robots-Tag:noindex
X-PUBLISHED-TTL:PT1H
BEGIN:VTIMEZONE
TZID:Europe/Amsterdam
BEGIN:DAYLIGHT
TZOFFSETFROM:+0100
TZOFFSETTO:+0200
TZNAME:CEST
DTSTART:20230326T010000
END:DAYLIGHT
BEGIN:STANDARD
TZOFFSETFROM:+0200
TZOFFSETTO:+0100
TZNAME:CET
DTSTART:20231029T010000
END:STANDARD
BEGIN:DAYLIGHT
TZOFFSETFROM:+0100
TZOFFSETTO:+0200
TZNAME:CEST
DTSTART:20240331T010000
END:DAYLIGHT
BEGIN:STANDARD
TZOFFSETFROM:+0200
TZOFFSETTO:+0100
TZNAME:CET
DTSTART:20241027T010000
END:STANDARD
BEGIN:DAYLIGHT
TZOFFSETFROM:+0100
TZOFFSETTO:+0200
TZNAME:CEST
DTSTART:20250330T010000
END:DAYLIGHT
BEGIN:STANDARD
TZOFFSETFROM:+0200
TZOFFSETTO:+0100
TZNAME:CET
DTSTART:20251026T010000
END:STANDARD
END:VTIMEZONE
BEGIN:VEVENT
DTSTART;TZID=Europe/Amsterdam:20240607T103000
DTEND;TZID=Europe/Amsterdam:20240607T113000
DTSTAMP:20260422T122720
CREATED:20240508T071333Z
LAST-MODIFIED:20240508T134808Z
UID:1346-1717756200-1717759800@omringxtra.nl
SUMMARY:Hybride Yoga door Merel Bron
DESCRIPTION:Klik hier om je op te geven: https://forms.office.com/e/tqtfwt4c0f
URL:https://omringxtra.nl/kalender/hybride-yoga-door-merel-bron/
LOCATION:Hoofdkantoor Omring\, Nieuwe Steen 36\, Hoorn\, 1625 HV\, Nederland
CATEGORIES:Zomer
ATTACH;FMTTYPE=image/png:https://omringxtra.nl/wp-content/uploads/2024/05/Yoga-1.png
END:VEVENT
BEGIN:VEVENT
DTSTART;TZID=Europe/Amsterdam:20240625T120000
DTEND;TZID=Europe/Amsterdam:20240625T130000
DTSTAMP:20260422T122720
CREATED:20240508T072519Z
LAST-MODIFIED:20240610T093440Z
UID:1354-1719316800-1719320400@omringxtra.nl
SUMMARY:Hybride Yoga door Merel Bron
DESCRIPTION:Klik hier om je op te geven: https://forms.office.com/e/tqtfwt4c0f
URL:https://omringxtra.nl/kalender/hybride-yoga-door-merel-bron-2/
LOCATION:Sweelinckhof
CATEGORIES:Zomer
ATTACH;FMTTYPE=image/png:https://omringxtra.nl/wp-content/uploads/2024/05/Yoga-1.png
END:VEVENT
BEGIN:VEVENT
DTSTART;TZID=Europe/Amsterdam:20240626T140000
DTEND;TZID=Europe/Amsterdam:20240626T170000
DTSTAMP:20260422T122720
CREATED:20240508T075512Z
LAST-MODIFIED:20240621T102457Z
UID:1363-1719410400-1719421200@omringxtra.nl
SUMMARY:VEGA Kookworkshop
DESCRIPTION:Klik hier om jezelf op te geven: https://forms.office.com/e/tqtfwt4c0f 
URL:https://omringxtra.nl/kalender/vega-kookworkshop/
LOCATION:SG Newton\, dampten 22\, Hoorn
CATEGORIES:Zomer
ATTACH;FMTTYPE=image/jpeg:https://omringxtra.nl/wp-content/uploads/2024/05/kookworkshop.jpg
END:VEVENT
END:VCALENDAR