BEGIN:VCALENDAR
VERSION:2.0
PRODID:-//OmringXtra - ECPv6.15.17.1//NONSGML v1.0//EN
CALSCALE:GREGORIAN
METHOD:PUBLISH
X-WR-CALNAME:OmringXtra
X-ORIGINAL-URL:https://omringxtra.nl
X-WR-CALDESC:Evenementen voor OmringXtra
REFRESH-INTERVAL;VALUE=DURATION:PT1H
X-Robots-Tag:noindex
X-PUBLISHED-TTL:PT1H
BEGIN:VTIMEZONE
TZID:Europe/Amsterdam
BEGIN:DAYLIGHT
TZOFFSETFROM:+0100
TZOFFSETTO:+0200
TZNAME:CEST
DTSTART:20240331T010000
END:DAYLIGHT
BEGIN:STANDARD
TZOFFSETFROM:+0200
TZOFFSETTO:+0100
TZNAME:CET
DTSTART:20241027T010000
END:STANDARD
BEGIN:DAYLIGHT
TZOFFSETFROM:+0100
TZOFFSETTO:+0200
TZNAME:CEST
DTSTART:20250330T010000
END:DAYLIGHT
BEGIN:STANDARD
TZOFFSETFROM:+0200
TZOFFSETTO:+0100
TZNAME:CET
DTSTART:20251026T010000
END:STANDARD
BEGIN:DAYLIGHT
TZOFFSETFROM:+0100
TZOFFSETTO:+0200
TZNAME:CEST
DTSTART:20260329T010000
END:DAYLIGHT
BEGIN:STANDARD
TZOFFSETFROM:+0200
TZOFFSETTO:+0100
TZNAME:CET
DTSTART:20261025T010000
END:STANDARD
END:VTIMEZONE
BEGIN:VEVENT
DTSTART;TZID=Europe/Amsterdam:20250701T080000
DTEND;TZID=Europe/Amsterdam:20250909T170000
DTSTAMP:20260421T144801
CREATED:20250619T095431Z
LAST-MODIFIED:20250714T113724Z
UID:2749-1751356800-1757437200@omringxtra.nl
SUMMARY:Wekelijks Buiten Bewegen van 1 juli t/m 9 september
DESCRIPTION:Meld je nu aan voor de opkomende buitentrainingen! \nSamen met je collega’s de buitenlucht in voor een actieve work-out. Lekker uit je hoofd en in beweging na een werkdag. Laagdrempelig\, ontspannen en gezellig. Doe je mee? \nNa een eerste succesvolle periode aan buitentrainingen\, starten we in juli met een vervolg hierop. Vanaf 1 juli t/m 9 september vind er wekelijks op 3 momenten een buitentraining plaats: \n\nDinsdag 16:30 – 17:30 (Hoorn)\nDinsdag 19:30 -20:30 (Spanbroek)\nDonderdag 19:30 – 20:30 (Spanbroek)\n\nJe kunt je HIER AANMELDEN.  \nDaar vind je ook aanvullende informatie over de trainingen\, inschrijving en andere praktische zaken.
URL:https://omringxtra.nl/kalender/wekelijks-buiten-bewegen-van-1-juli-t-m-9-september/
END:VEVENT
BEGIN:VEVENT
DTSTART;TZID=Europe/Amsterdam:20250704T170000
DTEND;TZID=Europe/Amsterdam:20250704T220000
DTSTAMP:20260421T144801
CREATED:20250527T183919Z
LAST-MODIFIED:20250527T184134Z
UID:2680-1751648400-1751666400@omringxtra.nl
SUMMARY:Bedrijfsvolleybaltoernooi van Open Beachvolleybal Hoorn
DESCRIPTION:Doe jij ook mee aan het Bedrijfsvolleybaltoernooi van Open Beachvolleybal Hoorn?  \nOp vrijdag 4 juli 2025 verandert het stadsstrand van Hoorn in een bruisend volleybalfestijn\, speciaal voor bedrijven! Vorm samen met je collega’s een team en strijd mee om de eer tijdens een sportieve en gezellige avond op het strand. \nPraktische info: \n\nDatum: Vrijdag 4 juli 2025\nTijd: 17:00 – 22:00\nLocatie: Stadsstrand Hoorn (Westerdijk 4\, naast Schouwburg Het Park)\nTeams: 4 personen per team\n\nMeedoen? Via Samen Vitaal kun je jouw team gratis inschrijven: https://forms.cloud.microsoft/e/WMbz36j0Jp. Mis deze kans om sport\, teambuilding en zomerse gezelligheid te combineren niet!
URL:https://omringxtra.nl/kalender/bedrijfsvolleybaltoernooi-van-open-beachvolleybal-hoorn/
LOCATION:Hoornse stadsstrand
CATEGORIES:Zomer
END:VEVENT
BEGIN:VEVENT
DTSTART;VALUE=DATE:20250730
DTEND;VALUE=DATE:20250731
DTSTAMP:20260421T144801
CREATED:20250703T114833Z
LAST-MODIFIED:20250714T113633Z
UID:2769-1753833600-1753919999@omringxtra.nl
SUMMARY:Wie trakteer jij op een ijsje én een kennismaking?
DESCRIPTION:Op woensdag 30 juli vieren we de Dag van de Vriendschap met iets bijzonders. Een vrolijke ijskar rijdt langs vier Omringlocaties in de regio Noord: Buitenveld\, De Golfstroom\, Den Koogh en De Zeester. Iedereen is welkom om aan te sluiten: bewoners\, collega’s\, buurtbewoners én mensen die nieuwsgierig zijn naar hoe het is om bij Omring te werken. \nBen je blij met je werk bij Omring? Neem dan 30 juli een vriend(in)\, familielid of kennis mee om kennis te laten maken. Ze krijgen een rondleiding\, kunnen in gesprek met een recruiter\, een spel spelen en natuurlijk genieten van een ijsje. Een laagdrempelige manier om de sfeer te proeven én misschien wel hun nieuwe werkplek te ontdekken. \nGoed om te weten: er is een nieuwe bonusregeling gestart! Draag je iemand aan die bij ons komt werken\, dan ontvang je nu een hogere beloning dan voorheen. Een mooie reden om iemand enthousiast te maken. \n>> Lees hier meer over de nieuwe regeling << \nIjsroute en tijden (onder voorbehoud): \n\n10:00 – 11:30 | Buitenveld\n12:00 – 13:30 | De Golfstroom\n14:00 – 15:30 | Den Koogh\n16:00 – 17:00 | De Zeester\n\nBij slecht weer wijken we uit naar binnen. De ijskar blijft buiten staan. \nLaat je verrassen door de warmte van Omring – en koel af met een lekker ijsje!
URL:https://omringxtra.nl/kalender/wie-trakteer-jij-op-een-ijsje-en-een-kennismaking/
END:VEVENT
END:VCALENDAR