BEGIN:VCALENDAR
VERSION:2.0
PRODID:-//OmringXtra - ECPv6.15.17.1//NONSGML v1.0//EN
CALSCALE:GREGORIAN
METHOD:PUBLISH
X-ORIGINAL-URL:https://omringxtra.nl
X-WR-CALDESC:Evenementen voor OmringXtra
REFRESH-INTERVAL;VALUE=DURATION:PT1H
X-Robots-Tag:noindex
X-PUBLISHED-TTL:PT1H
BEGIN:VTIMEZONE
TZID:Europe/Amsterdam
BEGIN:DAYLIGHT
TZOFFSETFROM:+0100
TZOFFSETTO:+0200
TZNAME:CEST
DTSTART:20240331T010000
END:DAYLIGHT
BEGIN:STANDARD
TZOFFSETFROM:+0200
TZOFFSETTO:+0100
TZNAME:CET
DTSTART:20241027T010000
END:STANDARD
BEGIN:DAYLIGHT
TZOFFSETFROM:+0100
TZOFFSETTO:+0200
TZNAME:CEST
DTSTART:20250330T010000
END:DAYLIGHT
BEGIN:STANDARD
TZOFFSETFROM:+0200
TZOFFSETTO:+0100
TZNAME:CET
DTSTART:20251026T010000
END:STANDARD
BEGIN:DAYLIGHT
TZOFFSETFROM:+0100
TZOFFSETTO:+0200
TZNAME:CEST
DTSTART:20260329T010000
END:DAYLIGHT
BEGIN:STANDARD
TZOFFSETFROM:+0200
TZOFFSETTO:+0100
TZNAME:CET
DTSTART:20261025T010000
END:STANDARD
END:VTIMEZONE
BEGIN:VEVENT
DTSTART;TZID=Europe/Amsterdam:20250701T080000
DTEND;TZID=Europe/Amsterdam:20250909T170000
DTSTAMP:20260421T130949
CREATED:20250619T095431Z
LAST-MODIFIED:20250714T113724Z
UID:2749-1751356800-1757437200@omringxtra.nl
SUMMARY:Wekelijks Buiten Bewegen van 1 juli t/m 9 september
DESCRIPTION:Meld je nu aan voor de opkomende buitentrainingen! \nSamen met je collega’s de buitenlucht in voor een actieve work-out. Lekker uit je hoofd en in beweging na een werkdag. Laagdrempelig\, ontspannen en gezellig. Doe je mee? \nNa een eerste succesvolle periode aan buitentrainingen\, starten we in juli met een vervolg hierop. Vanaf 1 juli t/m 9 september vind er wekelijks op 3 momenten een buitentraining plaats: \n\nDinsdag 16:30 – 17:30 (Hoorn)\nDinsdag 19:30 -20:30 (Spanbroek)\nDonderdag 19:30 – 20:30 (Spanbroek)\n\nJe kunt je HIER AANMELDEN.  \nDaar vind je ook aanvullende informatie over de trainingen\, inschrijving en andere praktische zaken.
URL:https://omringxtra.nl/kalender/wekelijks-buiten-bewegen-van-1-juli-t-m-9-september/
END:VEVENT
BEGIN:VEVENT
DTSTART;TZID=Europe/Amsterdam:20250806T150000
DTEND;TZID=Europe/Amsterdam:20250806T160000
DTSTAMP:20260421T130949
CREATED:20250711T085014Z
LAST-MODIFIED:20250711T085514Z
UID:2779-1754492400-1754496000@omringxtra.nl
SUMMARY:Supermarkt Safari – Hoorn
DESCRIPTION:Ga samen met een diëtist op pad in de supermarkt!\nOntdek hoe je etiketten leest\, leer gezondere keuzes maken\, én houd je portemonnee in balans. \n Wat kun je verwachten?\nTips om gezonde producten te herkennen\nEtiketten leren lezen als een pro\nGezonde keuzes voor elk budget\nAntwoord op jouw vragen over voeding \nLet op: Er zijn maar een paar plekken beschikbaar!\n✅ Meld je aan via https://forms.cloud.microsoft/e/exudidCMBd
URL:https://omringxtra.nl/kalender/supermarkt-safari-ontdek-hoe-je-gezond-en-betaalbaar-kunt-eten/
LOCATION:Hoorn\, Van dedemstraat 19\, Hoorn\, 1624NN
END:VEVENT
BEGIN:VEVENT
DTSTART;TZID=Europe/Amsterdam:20250813T190000
DTEND;TZID=Europe/Amsterdam:20250813T200000
DTSTAMP:20260421T130949
CREATED:20250711T085457Z
LAST-MODIFIED:20250711T085457Z
UID:2785-1755111600-1755115200@omringxtra.nl
SUMMARY:Supermarkt Safari – Den Helder
DESCRIPTION:Ga samen met een diëtist op pad in de supermarkt!\nOntdek hoe je etiketten leest\, leer gezondere keuzes maken\, én houd je portemonnee in balans. \n Wat kun je verwachten?\nTips om gezonde producten te herkennen\nEtiketten leren lezen als een pro\nGezonde keuzes voor elk budget\nAntwoord op jouw vragen over voeding \n Let op: Er zijn maar een paar plekken beschikbaar!\n✅ Meld je aan via https://forms.cloud.microsoft/e/exudidCMBd
URL:https://omringxtra.nl/kalender/supermarkt-safari-den-helder/
END:VEVENT
BEGIN:VEVENT
DTSTART;TZID=Europe/Amsterdam:20250820T150000
DTEND;TZID=Europe/Amsterdam:20250820T180000
DTSTAMP:20260421T130949
CREATED:20250711T085722Z
LAST-MODIFIED:20250711T085722Z
UID:2788-1755702000-1755712800@omringxtra.nl
SUMMARY:Gezond\, Groen & Gezellig – Vega Kookworkshop
DESCRIPTION:Vanuit Samen Vitaal wordt op woensdag 20 augustus om 15:00 uur een Vega Kookworkshop georganiseerd in Sweelinckhof\, speciaal voor onze medewerkers. Onder begeleiding van de kok van locatie Sweelinckhof leer je in een gezellige en praktische sessie hoe je smakelijke en gezonde vega-gerechten op tafel zet. De workshop vindt plaats in Wognum en is bedoeld voor een groep van maximaal 8 deelnemers – vol = vol\, dus wees er snel bij! Een leuke\, leerzame én lekkere manier om samen vitaal te blijven!  \n Geef je op via: https://forms.cloud.microsoft/e/yZJy5p0CGd
URL:https://omringxtra.nl/kalender/gezond-groen-gezellig-vega-kookworkshop/
LOCATION:Sweelinckhof
END:VEVENT
END:VCALENDAR